BEGIN:VCALENDAR
VERSION:2.0
PRODID:-//Shaka&#039;s Beach Bar &amp; Grill - ECPv6.15.20//NONSGML v1.0//EN
CALSCALE:GREGORIAN
METHOD:PUBLISH
X-WR-CALNAME:Shaka&#039;s Beach Bar &amp; Grill
X-ORIGINAL-URL:https://shakasobx.com
X-WR-CALDESC:Events for Shaka&#039;s Beach Bar &amp; Grill
REFRESH-INTERVAL;VALUE=DURATION:PT1H
X-Robots-Tag:noindex
X-PUBLISHED-TTL:PT1H
BEGIN:VTIMEZONE
TZID:America/New_York
BEGIN:DAYLIGHT
TZOFFSETFROM:-0500
TZOFFSETTO:-0400
TZNAME:EDT
DTSTART:20240310T070000
END:DAYLIGHT
BEGIN:STANDARD
TZOFFSETFROM:-0400
TZOFFSETTO:-0500
TZNAME:EST
DTSTART:20241103T060000
END:STANDARD
BEGIN:DAYLIGHT
TZOFFSETFROM:-0500
TZOFFSETTO:-0400
TZNAME:EDT
DTSTART:20250309T070000
END:DAYLIGHT
BEGIN:STANDARD
TZOFFSETFROM:-0400
TZOFFSETTO:-0500
TZNAME:EST
DTSTART:20251102T060000
END:STANDARD
BEGIN:DAYLIGHT
TZOFFSETFROM:-0500
TZOFFSETTO:-0400
TZNAME:EDT
DTSTART:20260308T070000
END:DAYLIGHT
BEGIN:STANDARD
TZOFFSETFROM:-0400
TZOFFSETTO:-0500
TZNAME:EST
DTSTART:20261101T060000
END:STANDARD
END:VTIMEZONE
BEGIN:VEVENT
DTSTART;TZID=America/New_York:20251024T200000
DTEND;TZID=America/New_York:20251024T220000
DTSTAMP:20260420T092303
CREATED:20250716T104534Z
LAST-MODIFIED:20250716T104534Z
UID:1675-1761336000-1761343200@shakasobx.com
SUMMARY:SHADE
DESCRIPTION:Join us for live music with SHADE! Check ’em out on Facebook.
URL:https://shakasobx.com/calendar/shade-3/
CATEGORIES:Live Music
ATTACH;FMTTYPE=image/jpeg:https://shakasobx.com/wp-content/uploads/2025/05/SHADE.jpg
END:VEVENT
BEGIN:VEVENT
DTSTART;TZID=America/New_York:20251023T200000
DTEND;TZID=America/New_York:20251023T220000
DTSTAMP:20260420T092303
CREATED:20250716T105524Z
LAST-MODIFIED:20251018T193854Z
UID:1684-1761249600-1761256800@shakasobx.com
SUMMARY:Pavel Solopov
DESCRIPTION:Join us for live music with Pavel Solopov! Check him out on Facebook.
URL:https://shakasobx.com/calendar/pavel-solopov-2/
CATEGORIES:Live Music
ATTACH;FMTTYPE=image/jpeg:https://shakasobx.com/wp-content/uploads/2025/07/Pavel-Solopov.jpg
END:VEVENT
BEGIN:VEVENT
DTSTART;TZID=America/New_York:20251018T200000
DTEND;TZID=America/New_York:20251018T220000
DTSTAMP:20260420T092303
CREATED:20250716T111018Z
LAST-MODIFIED:20250716T111018Z
UID:1706-1760817600-1760824800@shakasobx.com
SUMMARY:The James Henry Morgan Gang
DESCRIPTION:Join us for live music with the James Henry Morgan Gang! Check ’em out on Facebook.
URL:https://shakasobx.com/calendar/the-james-henry-morgan-gang-2/
CATEGORIES:Live Music
ATTACH;FMTTYPE=image/jpeg:https://shakasobx.com/wp-content/uploads/2025/07/James-Henry-Morgan-Gang.jpg
END:VEVENT
BEGIN:VEVENT
DTSTART;TZID=America/New_York:20251017T200000
DTEND;TZID=America/New_York:20251017T220000
DTSTAMP:20260420T092303
CREATED:20250716T103828Z
LAST-MODIFIED:20250716T103828Z
UID:1664-1760731200-1760738400@shakasobx.com
SUMMARY:The Lion Band
DESCRIPTION:Join us for live music with The Lion Band! Check ’em out on Facebook.
URL:https://shakasobx.com/calendar/the-lion-band-4/
CATEGORIES:Live Music
ATTACH;FMTTYPE=image/jpeg:https://shakasobx.com/wp-content/uploads/2025/05/The-Lion-Band.jpg
END:VEVENT
BEGIN:VEVENT
DTSTART;TZID=America/New_York:20251016T200000
DTEND;TZID=America/New_York:20251016T220000
DTSTAMP:20260420T092303
CREATED:20250716T110856Z
LAST-MODIFIED:20250716T110856Z
UID:1703-1760644800-1760652000@shakasobx.com
SUMMARY:Barry Hicks
DESCRIPTION:Join us for live music with Barry Hicks! Check him out on Facebook.
URL:https://shakasobx.com/calendar/barry-hicks-2/
CATEGORIES:Live Music
ATTACH;FMTTYPE=image/jpeg:https://shakasobx.com/wp-content/uploads/2025/05/Barry-Hicks.jpg
END:VEVENT
BEGIN:VEVENT
DTSTART;TZID=America/New_York:20251011T200000
DTEND;TZID=America/New_York:20251011T220000
DTSTAMP:20260420T092303
CREATED:20250716T104822Z
LAST-MODIFIED:20250716T104822Z
UID:1679-1760212800-1760220000@shakasobx.com
SUMMARY:Kill Devil Kats
DESCRIPTION:Join us for live music from the Kill Devil Kats! Check ’em out on Facebook.
URL:https://shakasobx.com/calendar/kill-devil-kats-5/
CATEGORIES:Live Music
ATTACH;FMTTYPE=image/jpeg:https://shakasobx.com/wp-content/uploads/2025/05/Kill-Devil-Kats.jpg
END:VEVENT
BEGIN:VEVENT
DTSTART;TZID=America/New_York:20251010T200000
DTEND;TZID=America/New_York:20251010T220000
DTSTAMP:20260420T092303
CREATED:20250716T105746Z
LAST-MODIFIED:20250716T105746Z
UID:1689-1760126400-1760133600@shakasobx.com
SUMMARY:Cultivated Mind
DESCRIPTION:Join us for live music from Cultivated Mind! Check ’em out on Facebook.
URL:https://shakasobx.com/calendar/cultivated-mind-3/
CATEGORIES:Live Music
ATTACH;FMTTYPE=image/png:https://shakasobx.com/wp-content/uploads/2025/07/Cultivaed-Mind.png
END:VEVENT
BEGIN:VEVENT
DTSTART;TZID=America/New_York:20251009T200000
DTEND;TZID=America/New_York:20251009T220000
DTSTAMP:20260420T092303
CREATED:20250716T110729Z
LAST-MODIFIED:20250716T110729Z
UID:1701-1760040000-1760047200@shakasobx.com
SUMMARY:Pancho
DESCRIPTION:Join us for live music with Pancho! Check him out on Facebook.
URL:https://shakasobx.com/calendar/pancho-2/
CATEGORIES:Live Music
ATTACH;FMTTYPE=image/jpeg:https://shakasobx.com/wp-content/uploads/2025/05/Pancho.jpg
END:VEVENT
BEGIN:VEVENT
DTSTART;TZID=America/New_York:20251004T200000
DTEND;TZID=America/New_York:20251004T220000
DTSTAMP:20260420T092303
CREATED:20250516T212024Z
LAST-MODIFIED:20250925T123101Z
UID:1486-1759608000-1759615200@shakasobx.com
SUMMARY:The Marshall Paul Band
DESCRIPTION:Join us for live rock\, blues and funk with The Marshall Paul Band! Check ’em out on Facebook.
URL:https://shakasobx.com/calendar/the-marshall-paul-band/
CATEGORIES:Live Music
ATTACH;FMTTYPE=image/jpeg:https://shakasobx.com/wp-content/uploads/2025/05/Marshall-Paul-Band-Graphic.jpg
END:VEVENT
BEGIN:VEVENT
DTSTART;TZID=America/New_York:20251003T200000
DTEND;TZID=America/New_York:20251003T220000
DTSTAMP:20260420T092303
CREATED:20250716T110251Z
LAST-MODIFIED:20250716T110251Z
UID:1696-1759521600-1759528800@shakasobx.com
SUMMARY:Joe Gosman Band
DESCRIPTION:Join us for live music with the Joe Gosman Band! Check ’em out on Facebook.
URL:https://shakasobx.com/calendar/joe-gosman-band/
CATEGORIES:Live Music
ATTACH;FMTTYPE=image/jpeg:https://shakasobx.com/wp-content/uploads/2025/07/Joe-Gosman-Band.jpg
END:VEVENT
BEGIN:VEVENT
DTSTART;TZID=America/New_York:20251002T200000
DTEND;TZID=America/New_York:20251002T220000
DTSTAMP:20260420T092303
CREATED:20250716T110028Z
LAST-MODIFIED:20250716T110028Z
UID:1693-1759435200-1759442400@shakasobx.com
SUMMARY:Marty C Moore
DESCRIPTION:Join us for live music with Marty C Moore! Check him out on Facebook.
URL:https://shakasobx.com/calendar/marty-c-moore-2/
CATEGORIES:Live Music
ATTACH;FMTTYPE=image/jpeg:https://shakasobx.com/wp-content/uploads/2025/05/Marty-C-Moore.jpg
END:VEVENT
BEGIN:VEVENT
DTSTART;TZID=America/New_York:20250927T200000
DTEND;TZID=America/New_York:20250927T220000
DTSTAMP:20260420T092303
CREATED:20250716T105911Z
LAST-MODIFIED:20250716T105911Z
UID:1691-1759003200-1759010400@shakasobx.com
SUMMARY:Govment Chezze
DESCRIPTION:Join us for live music with Govment Chezze! Check ’em out on Facebook.
URL:https://shakasobx.com/calendar/govment-chezze-5/
CATEGORIES:Live Music
ATTACH;FMTTYPE=image/jpeg:https://shakasobx.com/wp-content/uploads/2025/05/Govment-Chezze.jpg
END:VEVENT
BEGIN:VEVENT
DTSTART;TZID=America/New_York:20250926T200000
DTEND;TZID=America/New_York:20250926T220000
DTSTAMP:20260420T092303
CREATED:20250716T105642Z
LAST-MODIFIED:20250716T105642Z
UID:1686-1758916800-1758924000@shakasobx.com
SUMMARY:Cultivated Mind
DESCRIPTION:Join us for live music from Cultivated Mind! Check ’em out on Facebook.
URL:https://shakasobx.com/calendar/cultivated-mind-2/
CATEGORIES:Live Music
ATTACH;FMTTYPE=image/png:https://shakasobx.com/wp-content/uploads/2025/07/Cultivaed-Mind.png
END:VEVENT
BEGIN:VEVENT
DTSTART;TZID=America/New_York:20250925T200000
DTEND;TZID=America/New_York:20250925T220000
DTSTAMP:20260420T092303
CREATED:20250716T105422Z
LAST-MODIFIED:20250925T122829Z
UID:1682-1758830400-1758837600@shakasobx.com
SUMMARY:Pavel Solopov
DESCRIPTION:Join us for live music with Pavel Solopov! Check him out on Facebook.
URL:https://shakasobx.com/calendar/pavel-solopov/
CATEGORIES:Live Music
ATTACH;FMTTYPE=image/jpeg:https://shakasobx.com/wp-content/uploads/2025/07/Pavel-Solopov.jpg
END:VEVENT
BEGIN:VEVENT
DTSTART;TZID=America/New_York:20250920T200000
DTEND;TZID=America/New_York:20250920T220000
DTSTAMP:20260420T092303
CREATED:20250716T104731Z
LAST-MODIFIED:20250716T104731Z
UID:1677-1758398400-1758405600@shakasobx.com
SUMMARY:Kill Devil Kats
DESCRIPTION:Join us for live music from the Kill Devil Kats! Check ’em out on Facebook.
URL:https://shakasobx.com/calendar/kill-devil-kats-4/
CATEGORIES:Live Music
ATTACH;FMTTYPE=image/jpeg:https://shakasobx.com/wp-content/uploads/2025/05/Kill-Devil-Kats.jpg
END:VEVENT
BEGIN:VEVENT
DTSTART;TZID=America/New_York:20250919T200000
DTEND;TZID=America/New_York:20250919T220000
DTSTAMP:20260420T092303
CREATED:20250716T104409Z
LAST-MODIFIED:20250716T104409Z
UID:1672-1758312000-1758319200@shakasobx.com
SUMMARY:SHADE
DESCRIPTION:Join us for live music with SHADE! Check ’em out on Facebook.
URL:https://shakasobx.com/calendar/shade-2/
CATEGORIES:Live Music
ATTACH;FMTTYPE=image/jpeg:https://shakasobx.com/wp-content/uploads/2025/05/SHADE.jpg
END:VEVENT
BEGIN:VEVENT
DTSTART;TZID=America/New_York:20250918T200000
DTEND;TZID=America/New_York:20250918T220000
DTSTAMP:20260420T092303
CREATED:20250716T104249Z
LAST-MODIFIED:20250716T104249Z
UID:1669-1758225600-1758232800@shakasobx.com
SUMMARY:Sunset Ketch
DESCRIPTION:Join us for live music with Sunset Ketch! Check him out on Facebook.
URL:https://shakasobx.com/calendar/sunset-ketch-2/
CATEGORIES:Live Music
ATTACH;FMTTYPE=image/jpeg:https://shakasobx.com/wp-content/uploads/2025/05/Sunset-Ketch.jpg
END:VEVENT
BEGIN:VEVENT
DTSTART;TZID=America/New_York:20250913T200000
DTEND;TZID=America/New_York:20250913T220000
DTSTAMP:20260420T092303
CREATED:20250716T104128Z
LAST-MODIFIED:20250716T104128Z
UID:1667-1757793600-1757800800@shakasobx.com
SUMMARY:Low Income Bracket
DESCRIPTION:Join us for live music with Low Income Bracket!
URL:https://shakasobx.com/calendar/low-income-bracket-2/
CATEGORIES:Live Music
ATTACH;FMTTYPE=image/jpeg:https://shakasobx.com/wp-content/uploads/2025/03/shakas_673a1709-1920.jpg
END:VEVENT
BEGIN:VEVENT
DTSTART;TZID=America/New_York:20250912T200000
DTEND;TZID=America/New_York:20250912T220000
DTSTAMP:20260420T092303
CREATED:20250716T103722Z
LAST-MODIFIED:20250716T103722Z
UID:1662-1757707200-1757714400@shakasobx.com
SUMMARY:The Lion Band
DESCRIPTION:Join us for live music with The Lion Band! Check ’em out on Facebook.
URL:https://shakasobx.com/calendar/the-lion-band-3/
CATEGORIES:Live Music
ATTACH;FMTTYPE=image/jpeg:https://shakasobx.com/wp-content/uploads/2025/05/The-Lion-Band.jpg
END:VEVENT
BEGIN:VEVENT
DTSTART;TZID=America/New_York:20250911T200000
DTEND;TZID=America/New_York:20250911T220000
DTSTAMP:20260420T092303
CREATED:20250716T103521Z
LAST-MODIFIED:20250716T103521Z
UID:1660-1757620800-1757628000@shakasobx.com
SUMMARY:Dan Rosnato
DESCRIPTION:Join us for live music with Dan Rosnato! Check him out on Facebook.
URL:https://shakasobx.com/calendar/dan-rosnato-2/
CATEGORIES:Live Music
ATTACH;FMTTYPE=image/jpeg:https://shakasobx.com/wp-content/uploads/2025/05/Dan-Rosnato.jpg
END:VEVENT
BEGIN:VEVENT
DTSTART;TZID=America/New_York:20250906T200000
DTEND;TZID=America/New_York:20250906T220000
DTSTAMP:20260420T092303
CREATED:20250716T103358Z
LAST-MODIFIED:20250716T103358Z
UID:1657-1757188800-1757196000@shakasobx.com
SUMMARY:Hither
DESCRIPTION:Join us for live music with Hither! Check ’em out on Facebook.
URL:https://shakasobx.com/calendar/hither/
CATEGORIES:Live Music
ATTACH;FMTTYPE=image/jpeg:https://shakasobx.com/wp-content/uploads/2025/07/Hither.jpg
END:VEVENT
BEGIN:VEVENT
DTSTART;TZID=America/New_York:20250905T200000
DTEND;TZID=America/New_York:20250905T220000
DTSTAMP:20260420T092303
CREATED:20250716T103132Z
LAST-MODIFIED:20250716T103132Z
UID:1655-1757102400-1757109600@shakasobx.com
SUMMARY:SOULone
DESCRIPTION:Join us for live music with SOULone! Check ’em out on Facebook.
URL:https://shakasobx.com/calendar/soulone-3/
CATEGORIES:Live Music
ATTACH;FMTTYPE=image/jpeg:https://shakasobx.com/wp-content/uploads/2025/05/SOULone.jpg
END:VEVENT
BEGIN:VEVENT
DTSTART;TZID=America/New_York:20250904T200000
DTEND;TZID=America/New_York:20250904T220000
DTSTAMP:20260420T092303
CREATED:20250716T102943Z
LAST-MODIFIED:20250716T102943Z
UID:1652-1757016000-1757023200@shakasobx.com
SUMMARY:John Baldwin
DESCRIPTION:Join us for live music with John Baldwin! Check him out on Facebook.
URL:https://shakasobx.com/calendar/john-baldwin/
CATEGORIES:Live Music
ATTACH;FMTTYPE=image/jpeg:https://shakasobx.com/wp-content/uploads/2025/07/John-Baldwin.jpg
END:VEVENT
BEGIN:VEVENT
DTSTART;TZID=America/New_York:20250829T200000
DTEND;TZID=America/New_York:20250829T220000
DTSTAMP:20260420T092303
CREATED:20250701T175109Z
LAST-MODIFIED:20250701T175211Z
UID:1633-1756497600-1756504800@shakasobx.com
SUMMARY:Gravity
DESCRIPTION:Join us for live music with Gravity! Check ’em out on Facebook.
URL:https://shakasobx.com/calendar/gravity/
CATEGORIES:Live Music
ATTACH;FMTTYPE=image/jpeg:https://shakasobx.com/wp-content/uploads/2025/07/Gravity.jpg
END:VEVENT
BEGIN:VEVENT
DTSTART;TZID=America/New_York:20250828T200000
DTEND;TZID=America/New_York:20250828T220000
DTSTAMP:20260420T092303
CREATED:20250701T174749Z
LAST-MODIFIED:20250701T174749Z
UID:1630-1756411200-1756418400@shakasobx.com
SUMMARY:Cultivated Mind
DESCRIPTION:Join us for live music from Cultivated Mind! Check ’em out on Facebook.
URL:https://shakasobx.com/calendar/cultivated-mind/
CATEGORIES:Live Music
ATTACH;FMTTYPE=image/png:https://shakasobx.com/wp-content/uploads/2025/07/Cultivaed-Mind.png
END:VEVENT
BEGIN:VEVENT
DTSTART;TZID=America/New_York:20250823T200000
DTEND;TZID=America/New_York:20250823T220000
DTSTAMP:20260420T092303
CREATED:20250701T174436Z
LAST-MODIFIED:20250701T174436Z
UID:1628-1755979200-1755986400@shakasobx.com
SUMMARY:Kill Devil Kats
DESCRIPTION:Join us for live music from the Kill Devil Kats! Check ’em out on Facebook.
URL:https://shakasobx.com/calendar/kill-devil-kats-3/
CATEGORIES:Live Music
ATTACH;FMTTYPE=image/jpeg:https://shakasobx.com/wp-content/uploads/2025/05/Kill-Devil-Kats.jpg
END:VEVENT
BEGIN:VEVENT
DTSTART;TZID=America/New_York:20250822T200000
DTEND;TZID=America/New_York:20250822T220000
DTSTAMP:20260420T092303
CREATED:20250701T174307Z
LAST-MODIFIED:20250701T174307Z
UID:1626-1755892800-1755900000@shakasobx.com
SUMMARY:The Lion Band
DESCRIPTION:Join us for live music with The Lion Band! Check ’em out on Facebook.
URL:https://shakasobx.com/calendar/the-lion-band-2/
CATEGORIES:Live Music
ATTACH;FMTTYPE=image/jpeg:https://shakasobx.com/wp-content/uploads/2025/05/The-Lion-Band.jpg
END:VEVENT
BEGIN:VEVENT
DTSTART;TZID=America/New_York:20250821T200000
DTEND;TZID=America/New_York:20250821T220000
DTSTAMP:20260420T092303
CREATED:20250701T174052Z
LAST-MODIFIED:20250821T174121Z
UID:1624-1755806400-1755813600@shakasobx.com
SUMMARY:John Baldwin
DESCRIPTION:Join us for live music with John Baldwin! Check him out on Facebook.
URL:https://shakasobx.com/calendar/mike-gombas-jr-2/
CATEGORIES:Live Music
ATTACH;FMTTYPE=image/jpeg:https://shakasobx.com/wp-content/uploads/2025/07/John-Baldwin.jpg
END:VEVENT
BEGIN:VEVENT
DTSTART;TZID=America/New_York:20250816T200000
DTEND;TZID=America/New_York:20250816T220000
DTSTAMP:20260420T092303
CREATED:20250701T173809Z
LAST-MODIFIED:20250701T173809Z
UID:1621-1755374400-1755381600@shakasobx.com
SUMMARY:Lost Soul Society
DESCRIPTION:Join us for live music with Lost Soul Society! Check ’em out on Facebook.
URL:https://shakasobx.com/calendar/lost-soul-society/
CATEGORIES:Live Music
ATTACH;FMTTYPE=image/jpeg:https://shakasobx.com/wp-content/uploads/2025/07/Lost-Soul-Society.jpg
END:VEVENT
BEGIN:VEVENT
DTSTART;TZID=America/New_York:20250815T200000
DTEND;TZID=America/New_York:20250815T220000
DTSTAMP:20260420T092303
CREATED:20250701T173512Z
LAST-MODIFIED:20250701T173512Z
UID:1619-1755288000-1755295200@shakasobx.com
SUMMARY:Slick One
DESCRIPTION:Join us for live music with Slick One! Check ’em out on Facebook.
URL:https://shakasobx.com/calendar/slick-one-2/
CATEGORIES:Live Music
ATTACH;FMTTYPE=image/jpeg:https://shakasobx.com/wp-content/uploads/2025/05/Slick-One.jpg
END:VEVENT
END:VCALENDAR